BEGIN:VCALENDAR
VERSION:2.0
PRODID:-//Diversity, Equity &amp; Inclusion//NONSGML Events//EN
CALSCALE:GREGORIAN
X-ORIGINAL-URL:https://diversity.med.wustl.edu/calendar/
X-WR-CALDESC:Diversity, Equity &amp; Inclusion - Events
BEGIN:VEVENT
UID:20190401T1626Z-1554135993.6512-EO-4105-1@172.23.128.19
STATUS:CONFIRMED
DTSTAMP:20260425T121134Z
CREATED:20190401T160919Z
LAST-MODIFIED:20190410T204617Z
DTSTART;TZID=America/Chicago:20190522T130000
DTEND;TZID=America/Chicago:20190522T140000
SUMMARY: WUSM 1.0 Diversity\, Equity and Inclusion Open Session
DESCRIPTION: Registration must be completed by logging into Learn@Work and 
 selecting course number 0006181 and class ID number 00028495 The goal of th
 is interactive training is to provide participants with a basic awareness o
 f cultural diversity as well as how culture influences the workplace\, camp
 us and clinical care environment at Washington University School of Medicin
 e.  The […]
X-ALT-DESC;FMTTYPE=text/html: <p>Registration must be completed by logging 
 into Learn@Work and selecting course number 0006181 and class ID number 000
 28495</p><p>The goal of this interactive training is to provide participant
 s with a basic awareness of cultural diversity as well as how culture influ
 ences the workplace\, campus and clinical care environment at Washington Un
 iversity School of Medicine.  The class is combination of experiential and 
 didactic training designed to:</p><ul><li>Define diversity and inclusion</l
 i><li>Communicate the importance of diversity and inclusion initiatives to 
 the university</li><li>Explore the impact of exclusion</li></ul>
CATEGORIES:Training
LOCATION:Eric P. Newman Education Center - Seminar Room B
GEO:38.636879;-90.262400
ORGANIZER;CN="Valerie":MAILTO:valeriejoyner@wustl.edu
URL;VALUE=URI:https://diversity.med.wustl.edu/events/calendar/1-0-diversity
 -equity-inclusion-open-session/
END:VEVENT
BEGIN:VTIMEZONE
TZID:America/Chicago
BEGIN:DAYLIGHT
TZOFFSETFROM:-0600
TZOFFSETTO:-0500
DTSTART:20190310T080000
TZNAME:CDT
END:DAYLIGHT
END:VTIMEZONE
END:VCALENDAR
