BEGIN:VCALENDAR
VERSION:2.0
PRODID:-//Diversity, Equity &amp; Inclusion//NONSGML Events//EN
CALSCALE:GREGORIAN
X-ORIGINAL-URL:https://diversity.med.wustl.edu/calendar/
X-WR-CALDESC:Diversity, Equity &amp; Inclusion - Events
BEGIN:VEVENT
UID:20190401T1656Z-1554137793.9126-EO-4111-1@172.23.128.19
STATUS:CONFIRMED
DTSTAMP:20260425T210223Z
CREATED:20190401T164859Z
LAST-MODIFIED:20190411T145241Z
DTSTART;TZID=America/Chicago:20190522T140000
DTEND;TZID=America/Chicago:20190522T150000
SUMMARY: WUSM 2.0 Diversity\, Equity and Inclusion Open Session
DESCRIPTION: Registration must be completed by logging into Learn@Work and 
 selecting course number 0006221 and class ID number 00028496 Facilitators p
 rovide experiential activities that align with materials from the American 
 Association of Medical Colleges (AAMC) to demonstrate how unconscious bias 
 is something that every individual holds.  The goal of this interactive tra
 ining is to highlight the […]
X-ALT-DESC;FMTTYPE=text/html: <p>Registration must be completed by logging 
 into Learn@Work and selecting course number 0006221 and class ID number 000
 28496</p><p>Facilitators provide experiential activities that align with ma
 terials from the American Association of Medical Colleges (AAMC) to demonst
 rate how unconscious bias is something that every individual holds.  The go
 al of this interactive training is to highlight the concept of unconscious 
 bias\, how it influences individuals on a daily basis\, and provides tangib
 le tools for mitigating unconscious bias.</p><p> </p>
CATEGORIES:Training
ORGANIZER;CN="Valerie":MAILTO:valeriejoyner@wustl.edu
URL;VALUE=URI:https://diversity.med.wustl.edu/events/calendar/2-0-diversity
 -equity-inclusion-open-session/
END:VEVENT
BEGIN:VTIMEZONE
TZID:America/Chicago
BEGIN:DAYLIGHT
TZOFFSETFROM:-0600
TZOFFSETTO:-0500
DTSTART:20190310T080000
TZNAME:CDT
END:DAYLIGHT
END:VTIMEZONE
END:VCALENDAR
