BEGIN:VCALENDAR
VERSION:2.0
PRODID:-//Diversity, Equity &amp; Inclusion//NONSGML Events//EN
CALSCALE:GREGORIAN
X-ORIGINAL-URL:https://diversity.med.wustl.edu/calendar/
X-WR-CALDESC:Diversity, Equity &amp; Inclusion - Events
BEGIN:VEVENT
UID:20181107T2208Z-1541628481.7057-EO-3205-1@172.23.128.19
STATUS:CONFIRMED
DTSTAMP:20260421T142429Z
CREATED:20181107T214818Z
LAST-MODIFIED:20190215T222334Z
DTSTART;TZID=America/Chicago:20190204T100000
DTEND;TZID=America/Chicago:20190204T110000
SUMMARY: 3.0 Diversity Training DBBS
DESCRIPTION: Individuals with disabilities are encouraged to attend all Was
 hington University School of Medicine sponsored events. If you are a person
  with a disability who requires a reasonable accommodation in order to part
 icipate in this program\, please contact the Washington University School o
 f Medicine’s Office of Diversity\, Equity and Inclusion in advance at 314-2
 73-2809 or MedDEI@wustl.edu. 
X-ALT-DESC;FMTTYPE=text/html: <p><span class="x_xxxa0">Individuals with dis
 abilities are encouraged to attend all Washington University School of Medi
 cine sponsored events. If you are a person with a disability who requires a
  reasonable accommodation in order to participate in this program\, please 
 contact the Washington University School of Medicine’s Office of Diversity\
 , Equity and Inclusion in advance at 314-273-2809 or </span><span class="x_
 xxxa0"><a href="mailto:MedDEI@wustl.edu" target="_blank" rel="noopener nore
 ferrer" data-auth="NotApplicable">MedDEI@wustl.edu</a></span><span class="x
 _xxxa0">.</span><span class="x_xxxa0"> </span></p>
CATEGORIES:Training
ORGANIZER;CN="Valerie":MAILTO:valeriejoyner@wustl.edu
URL;VALUE=URI:https://diversity.med.wustl.edu/events/calendar/3-0-diversity
 -training-dbbs/
END:VEVENT
BEGIN:VTIMEZONE
TZID:America/Chicago
BEGIN:STANDARD
TZOFFSETFROM:-0500
TZOFFSETTO:-0600
DTSTART:20181104T070000
TZNAME:CST
END:STANDARD
END:VTIMEZONE
END:VCALENDAR
