BEGIN:VCALENDAR
VERSION:2.0
PRODID:-//Diversity, Equity &amp; Inclusion//NONSGML Events//EN
CALSCALE:GREGORIAN
X-ORIGINAL-URL:https://diversity.med.wustl.edu/calendar/
X-WR-CALDESC:Diversity, Equity &amp; Inclusion - Events
BEGIN:VEVENT
UID:20260416T1959Z-1776369561.6536-EO-52681-1@10.73.7.220
STATUS:CONFIRMED
DTSTAMP:20260423T083326Z
CREATED:20260416T195908Z
LAST-MODIFIED:20260416T195908Z
DTSTART;VALUE=DATE:20260422
DTEND;VALUE=DATE:20260423
SUMMARY: Earth Day
DESCRIPTION: Earth Day\, observed this year on Wednesday\, April 22\, 2026\
 , is a time to reflect on our relationship with the environment and conside
 r how our daily choices shape the world around us. From climate change to l
 ocal sustainability efforts\, small actions—especially when taken collectiv
 ely—can have meaningful impact.
X-ALT-DESC;FMTTYPE=text/html: <p>Earth Day\, observed this year on Wednesda
 y\, April 22\, 2026\, is a time to reflect on our relationship with the env
 ironment and consider how our daily choices shape the world around us. From
  climate change to local sustainability efforts\, small actions—especially 
 when taken collectively—can have meaningful impact.</p>
ORGANIZER;CN="Yoko":MAILTO:yokokiyoi@wustl.edu
URL;VALUE=URI:https://diversity.med.wustl.edu/events/calendar/earth-day/
ATTACH;FMTTYPE=image/jpeg:https://diversity.med.wustl.edu/app/uploads/2026/04/Walk-in-Park_EarthDay_1080x1350-v3-1.jpg
END:VEVENT
BEGIN:VTIMEZONE
TZID:America/Chicago
BEGIN:DAYLIGHT
TZOFFSETFROM:-0600
TZOFFSETTO:-0500
DTSTART:20260308T080000
TZNAME:CDT
END:DAYLIGHT
END:VTIMEZONE
END:VCALENDAR
