BEGIN:VCALENDAR
VERSION:2.0
PRODID:-//Diversity, Equity &amp; Inclusion//NONSGML Events//EN
CALSCALE:GREGORIAN
X-ORIGINAL-URL:https://diversity.med.wustl.edu/calendar/
X-WR-CALDESC:Diversity, Equity &amp; Inclusion - Events
BEGIN:VEVENT
UID:20260304T2136Z-1772660181.0667-EO-52632-1@10.73.7.220
STATUS:CONFIRMED
DTSTAMP:20260425T211032Z
CREATED:20260304T211553Z
LAST-MODIFIED:20260304T211823Z
DTSTART;TZID=America/Chicago:20260318T173000
DTEND;TZID=America/Chicago:20260318T190000
SUMMARY: First-Gen Scholars Sip & Paint
DESCRIPTION: Unwind and connect with fellow First-Gen Scholars during this 
 relaxed and creative evening. Participants are invited to enjoy a casual si
 p-and-paint experience—no painting experience needed. All supplies and ligh
 t refreshments will be provided. Just bring yourself and enjoy the opportun
 ity to create\, connect\, and recharge. RSVP HERE
X-ALT-DESC;FMTTYPE=text/html: <p>Unwind and connect with fellow First-Gen S
 cholars during this relaxed and creative evening. Participants are invited 
 to enjoy a casual sip-and-paint experience—no painting experience needed.</
 p><p>All supplies and light refreshments will be provided. Just bring yours
 elf and enjoy the opportunity to create\, connect\, and recharge.</p><p><st
 rong>RSVP <a href="https://forms.office.com/Pages/ResponsePage.aspx?id=taPM
 TM1xbU6XS02b65bG1lrKqGQPclNDooxTYxqlXy5UMldQOVVQOExJQlBZRDNUT1VGRTJDQVBaRy4
 u&origin=QRCode" target="_blank" rel="noopener">HERE</a></strong></p>
LOCATION:Farrell Learning and Teaching Center (FLTC)
GEO:0.000000;0.000000
ORGANIZER;CN="Yoko":MAILTO:yokokiyoi@wustl.edu
URL;VALUE=URI:https://diversity.med.wustl.edu/events/calendar/first-gen-sch
 olars-sip-paint/
ATTACH;FMTTYPE=image/jpeg:https://diversity.med.wustl.edu/app/uploads/2026/03/FGS-Sip-Paint-1.jpg
END:VEVENT
BEGIN:VTIMEZONE
TZID:America/Chicago
BEGIN:DAYLIGHT
TZOFFSETFROM:-0600
TZOFFSETTO:-0500
DTSTART:20260308T080000
TZNAME:CDT
END:DAYLIGHT
END:VTIMEZONE
END:VCALENDAR
