BEGIN:VCALENDAR
VERSION:2.0
PRODID:-//Diversity, Equity &amp; Inclusion//NONSGML Events//EN
CALSCALE:GREGORIAN
X-ORIGINAL-URL:https://diversity.med.wustl.edu/calendar/
X-WR-CALDESC:Diversity, Equity &amp; Inclusion - Events
BEGIN:VEVENT
UID:20201030T0102Z-1604019743.102-EO-7607-1@172.23.128.18
STATUS:CONFIRMED
DTSTAMP:20260420T111524Z
CREATED:20201029T202618Z
LAST-MODIFIED:20201109T190311Z
DTSTART;TZID=America/Chicago:20201117T113000
DTEND;TZID=America/Chicago:20201117T130000
SUMMARY: Henrietta Lacks Centennial CELLebration: Honoring Her Life and Leg
 acy
DESCRIPTION: All 2020 Diversity Week events will be virtual. You will recei
 ve a link to this event after you register. Honoring Herstory The Lacks Fam
 ily has launched a year-long HELA100:  Henrietta Lacks Centennial CELLebrat
 ion to honor the 100th anniversary of the birth of Henrietta Lacks. Born in
  rural Roanoke\, Virginia\, on August 1\, 1920\, Henrietta Lacks was […]
X-ALT-DESC;FMTTYPE=text/html: <p>All <a href="https://diversity.med.wustl.e
 du/diversity-week-2020/">2020 Diversity Week</a> events will be virtual. Yo
 u will receive a link to this event after you register.</p><p><strong>Honor
 ing Herstory</strong></p><p>The Lacks Family has launched a year-long <a hr
 ef="https://hela100.org/hela100">HELA100:  Henrietta Lacks Centennial CELLe
 bration</a> to honor the 100th anniversary of the birth of Henrietta Lacks.
 </p><p>Born in rural Roanoke\, Virginia\, on August 1\, 1920\, Henrietta La
 cks was an African American woman\, wife and mother of five. She also becam
 e the "Mother of Modern Medicine\," changing the world with her immortal He
 La cells. Henrietta's HeLa cells\, taken without her or her family's knowle
 dge or consent\, would become responsible for some of the greatest scientif
 ic advancements of the last century and continue to benefit all of humanity
 .</p><p>This event will kick-off WUSM's participation in HELA100! We will w
 ill view part of the 1997 documentary film <em>The Way of All Flesh</em>\, 
 hear from a panel of WashU experts\, and leave time for Q & A.</p><h2>Regis
 ter for this event:</h2><p>[formidable id="83"]</p><p> </p>
CATEGORIES:Special Program
LOCATION:Zoom (Virtual)
GEO:38.635102;-90.262792
ORGANIZER;CN="Valerie":MAILTO:valeriejoyner@wustl.edu
URL;VALUE=URI:https://diversity.med.wustl.edu/events/calendar/henrietta-lac
 ks-centennial-cellebration/
END:VEVENT
BEGIN:VTIMEZONE
TZID:America/Chicago
BEGIN:STANDARD
TZOFFSETFROM:-0500
TZOFFSETTO:-0600
DTSTART:20201101T070000
TZNAME:CST
END:STANDARD
END:VTIMEZONE
END:VCALENDAR
