BEGIN:VCALENDAR
VERSION:2.0
PRODID:-//Diversity, Equity &amp; Inclusion//NONSGML Events//EN
CALSCALE:GREGORIAN
X-ORIGINAL-URL:https://diversity.med.wustl.edu/calendar/
X-WR-CALDESC:Diversity, Equity &amp; Inclusion - Events
BEGIN:VEVENT
UID:20240409T1813Z-1712686404.2044-EO-51302-1@172.23.128.18
STATUS:CONFIRMED
DTSTAMP:20260423T010702Z
CREATED:20240521T055610Z
LAST-MODIFIED:20240606T200410Z
DTSTART;TZID=America/Chicago:20240621T110000
DTEND;TZID=America/Chicago:20240621T140000
SUMMARY: WUSM Juneteenth Jubilee
DESCRIPTION: In recognition of Juneteenth\, the WUSM Office of Diversity\, 
 Equity and Inclusion is hosting a campus celebration on Friday\, June 21st 
 from 11am – 2pm in Cori Interactive Classroom! The Juneteenth Jubilee is an
  opportunity to connect with members of the WashU School of Medicine commun
 ity\, and learn more about Juneteenth. The event will feature […]
X-ALT-DESC;FMTTYPE=text/html: <p>In recognition of Juneteenth\, the WUSM Of
 fice of Diversity\, Equity and Inclusion is hosting a campus celebration on
  Friday\, June 21st from 11am – 2pm in Cori Interactive Classroom!</p><p>Th
 e Juneteenth Jubilee is an opportunity to connect with members of the WashU
  School of Medicine community\, and learn more about Juneteenth. The event 
 will feature food from Black-owned businesses\, games\, informational mater
 ial about Juneteenth and local organizations. We encourage individuals and 
 teams to stop by for a plate of food\, community\, and connections!</p><p>R
 SVP in order for the event to be well-accommodated for food and beverages. 
 Masks will be provided. Email Joel Dalton (joeltdalton@wustl.edu) with ques
 tions\, concerns\, or accommodation requests.</p><p>[formidable id="445"]</
 p><p>Individuals with disabilities are encouraged to attend all Washington 
 University School of Medicine sponsored events.  If you are a person with a
  disability who requires reasonable accommodation to participate in this ev
 ent\, at least one week before the event\, don’t hesitate to get in touch w
 ith the Washington University School of Medicine Office of Diversity\, Equi
 ty\, and Inclusion in advance at 314-273-2809 or <a href="mailto:MedDEI@wus
 tl.edu">MedDEI@wustl.edu</a></p><div class="map"></div>
CATEGORIES:June Heritage Month/Cultural Celebrations
LOCATION:Cori Interactive Classroom
GEO:38.633774;-90.262520
ORGANIZER;CN="Tonna":MAILTO:tonna.wilson@wustl.edu
URL;VALUE=URI:https://diversity.med.wustl.edu/events/calendar/wusm-juneteen
 th-jubilee/
END:VEVENT
BEGIN:VTIMEZONE
TZID:America/Chicago
BEGIN:DAYLIGHT
TZOFFSETFROM:-0600
TZOFFSETTO:-0500
DTSTART:20240310T080000
TZNAME:CDT
END:DAYLIGHT
END:VTIMEZONE
END:VCALENDAR
